BEGIN:VCALENDAR
VERSION:2.0
PRODID:-//Equine Reflection - ECPv6.15.20//NONSGML v1.0//EN
CALSCALE:GREGORIAN
METHOD:PUBLISH
X-ORIGINAL-URL:https://www.equinereflection.com
X-WR-CALDESC:Events for Equine Reflection
REFRESH-INTERVAL;VALUE=DURATION:PT1H
X-Robots-Tag:noindex
X-PUBLISHED-TTL:PT1H
BEGIN:VTIMEZONE
TZID:America/Edmonton
BEGIN:DAYLIGHT
TZOFFSETFROM:-0700
TZOFFSETTO:-0600
TZNAME:MDT
DTSTART:20160313T090000
END:DAYLIGHT
BEGIN:STANDARD
TZOFFSETFROM:-0600
TZOFFSETTO:-0700
TZNAME:MST
DTSTART:20161106T080000
END:STANDARD
BEGIN:DAYLIGHT
TZOFFSETFROM:-0700
TZOFFSETTO:-0600
TZNAME:MDT
DTSTART:20170312T090000
END:DAYLIGHT
BEGIN:STANDARD
TZOFFSETFROM:-0600
TZOFFSETTO:-0700
TZNAME:MST
DTSTART:20171105T080000
END:STANDARD
BEGIN:DAYLIGHT
TZOFFSETFROM:-0700
TZOFFSETTO:-0600
TZNAME:MDT
DTSTART:20180311T090000
END:DAYLIGHT
BEGIN:STANDARD
TZOFFSETFROM:-0600
TZOFFSETTO:-0700
TZNAME:MST
DTSTART:20181104T080000
END:STANDARD
BEGIN:DAYLIGHT
TZOFFSETFROM:-0700
TZOFFSETTO:-0600
TZNAME:MDT
DTSTART:20190310T090000
END:DAYLIGHT
BEGIN:STANDARD
TZOFFSETFROM:-0600
TZOFFSETTO:-0700
TZNAME:MST
DTSTART:20191103T080000
END:STANDARD
BEGIN:DAYLIGHT
TZOFFSETFROM:-0700
TZOFFSETTO:-0600
TZNAME:MDT
DTSTART:20200308T090000
END:DAYLIGHT
BEGIN:STANDARD
TZOFFSETFROM:-0600
TZOFFSETTO:-0700
TZNAME:MST
DTSTART:20201101T080000
END:STANDARD
END:VTIMEZONE
BEGIN:VEVENT
DTSTART;TZID=America/Edmonton:20190721T090000
DTEND;TZID=America/Edmonton:20190721T170000
DTSTAMP:20260421T194918
CREATED:20190717T221332Z
LAST-MODIFIED:20190717T221441Z
UID:2603-1563699600-1563728400@www.equinereflection.com
SUMMARY:Horsemanship and Reflection
DESCRIPTION:Deepen your relationship with your horse – Bring your horse or use one of Chantel’s.\nThis workshop is for you if: \n\nYou long for a better relationship with your horse\nYou have had an experience with a horse that now has you fearful around them\nYou carry emotions from life events that you don’t want to bring to your horse\nYou know deep down your horse “acting- up” may have something to do with you\, and you want to figure it out\nYou want to get out and meet other people and horses.\n\nThis day will be fun\, experiential and enlightening. \nCo-Facilitated with Doreen Leclair. Check-out more details here
URL:https://www.equinereflection.com/event/horsemanship-and-reflection/
LOCATION:Location to be announced\, RR2\, Lindbrook\, Alberta\, T0B 2M0\, Canada
CATEGORIES:Clinic,Workshop
ATTACH;FMTTYPE=image/jpeg:https://www.equinereflection.com/wp-content/uploads/2016/10/ER_horses-weight-block-49.jpg
ORGANIZER;CN="Chantel White | Equine Reflection":MAILTO:chantel@equinereflection.com
END:VEVENT
BEGIN:VEVENT
DTSTART;VALUE=DATE:20170727
DTEND;VALUE=DATE:20170801
DTSTAMP:20260421T194918
CREATED:20161012T034433Z
LAST-MODIFIED:20170322T230335Z
UID:988-1501128000-1501473599@www.equinereflection.com
SUMMARY:2017 Banff Summer Retreat
DESCRIPTION:In the heart of the Canadian Rockies find “The Whispers of your Soul” Retreat\nHave you forgotten the magic within you? Are you secretly looking for a way to connect to the longing of your soul? Have you been asking who am I? What is next for me? Dear fellow feminine soul searcher\, if you answered yes to any of these questions\, then… We have an amazing retreat planned for you! We have space for only 10 women to join us on this incredible journey of excavating the calling of your soul. Are you one of them? \n“The whispers of your soul” retreat is for you if:\n\nYou are welcoming a get away from the pressures of everyday life\nYou are longing to reconnect to that still quiet voice within\nYou have been feeling the dreams of long ago asking you to breathe life into them\nYou ready to commit to yourself in a big way\nYou have an internal knowing that horses can offer a reflection into your soul\nYou feel drawn to the power of nature and horses to heal\n\nThis is your chance to unplug and listen to the call of your soul! Have you heard her? What is she trying to tell you? Join Chantel of Equine Reflection and Brenda of Horse Sense Healing for an amazing off the grid experience near beautiful Banff National Park\, Alberta Canada. In the peaceful mountain setting\, get in touch with all that answers that come from deep within. Immerse yourself in stunning scenery\, trail rides\, equine supported coaching and reconnection to your soul. With each step further into the breathtaking surroundings\, find the hush of reverence\, feel awe and wonder because you know you are in the presence of spirit. Reverence enwraps you in perfect peace because there is no past and no future\, only the present moment\, and you are one with heaven and earth. \nThe journey\nImagine\, you step out of your car at the Big Horn Campground on the beautiful Ya Ha Tinda Ranch of Sundre\, Alberta. You see the stunning Canadian Rockies reaching into the crystal blue sky. Clean\, fresh air enters your nostrils and fills your lungs. Your retreat leaders and coaches who are both Equine Gestalt Coaching Method Practitioners\, accomplished horsewomen and outdoors women\, are there to greet you. The horse drawn wagon is ready to take you to your transformational destination in a secluded mountain hideaway\, nestled in the majestic mountains\, bordering the Red Deer River. \nBeckoning to your soul…\nYou surrender to your divine nature as you arrive at your inviting cabin stay. She whispers to you welcome home\, as you hand over your cell phones\, for 4 days. As you look around the serene setting you see the healing horse herd awaiting your special time with them\, you ponder what will their message be for you? \nLocation: Your heart opens to the mountain setting\nThe Outpost at Warden Rock is a secluded mountain hideaway\, nestled in the majestic mountains\, bordering the Red Deer River. The Outpost is remote and unique and sits at 5500 feet above sea level at the base of Warden Rock\, and is surrounded by breathtaking vistas in all directions. Here guests really have the opportunity to get away from the pressures of everyday life\, and yet have all the comforts of home in one of Alberta’s true treasures. \nWhat to expect: Oh my this retreat is made to fill your soul!\n\nWhile we understand the need of many people to have an itinerary and schedule of events\, the nature of our work is organic and difficult to schedule. We believe that part of listening to our inner voice is to trust the process. We can assure you this:\nArrive Thursday and park your car and worries for a true retreat from the pressures of everyday life. You will escorted by a horse drawn wagon into one of Canada’s most picturesque locations boarding Banff national park. The outpost is surrounded by breath taking vistas in all directions. Get settled in your cozy cabin with a wood burning stove. You we be welcomed by the mountains\, the streams\, and the healing power of horses. Each day will provide further awareness into your soul’s longings. Now more than ever we need to listen the voice within\, she is the one who will show you the way. \nWe will meet the morning of Thursday\, date for 2017 TBA\, in Sundre\, Alberta and travel by van to the parking lot at the Big Horn Campground. At noon the wagon from The Outpost at Warden Rock will pick us up for our 9 mile trip to our off-the-grid destination. We will be served lunch along the way to our slice of heaven. We will start listening to the call of our souls as we begin to get to know each other. Upon arrival\, you will have time to settle into your double occupancy\, cozy cabin. As a group\, we will gather to begin our journey. \n\nThe Outpost will ensure we are well fed\nA group trail ride is included\nFree time to process and explore each day.\nSelf-discovery …. and Group EGC coaching each day with Chantel\, Brenda\, and the horses.\nHot tub\nWine & cheese night\nCampfires\nWagon ride into our hideaway\nMassage is available at your expense if reserved in advance.\nWe will return to the parking lot to meet with our driver by 5:00 pm Sunday\, for estimated arrival in Sundre by 7:00 pm.\n\nTrust your soul and dive into this one of a kind Retreat! Only 10 feminine soul searchers will have the opportunity to join us on this PHENOMENAL adventure!\nEarly Bird booking\, before May 1st 2017: CAD$2995.00/person\, act soon to claim the best price!\n\n\n\n\n\n\nAfter May 1st\, 2017\, the cost is: CAD$3295.00/person.
URL:https://www.equinereflection.com/event/banff-summer-retreat/
LOCATION:Banff Summer Retreat\, Outpost at Warden Rock\, Banff\, Alberta\, Canada
CATEGORIES:Clinic,Retreat
ATTACH;FMTTYPE=image/jpeg:https://www.equinereflection.com/wp-content/uploads/2016/10/ER-retreat-feature.jpg
ORGANIZER;CN="Chantel White | Equine Reflection":MAILTO:chantel@equinereflection.com
END:VEVENT
END:VCALENDAR